BEGIN:VCALENDAR
VERSION:2.0
PRODID:-//Sabre//Sabre VObject 4.5.8//EN
CALSCALE:GREGORIAN
BEGIN:VEVENT
UID:sabre-vobject-615cc6fc-d6c0-4a15-8dea-608c746afb05
DTSTAMP:20260423T020244Z
SUMMARY:Host Nation Orientation 
DESCRIPTION:
X-ALT-DESC:FMTTYPE=text/html:<!DOCTYPE HTML PUBLIC "-//W3C//DTD HTML 3.2//E
 N"><HTML></HTML>
CREATED;TZID=Europe/Oslo:20190702T160250
URL;VALUE=URI:https://brussels.armymwr.com/calendar/event
DTSTART;TZID=Europe/Oslo:20190417T090000
DTEND;TZID=Europe/Oslo:20190417T123000
SEQUENCE:0
END:VEVENT
BEGIN:VEVENT
UID:sabre-vobject-a1816f3e-1c85-437f-9a66-7a2b51a744a9
DTSTAMP:20260423T020244Z
SUMMARY:Host Nation Orientation 
DESCRIPTION:
X-ALT-DESC:FMTTYPE=text/html:<!DOCTYPE HTML PUBLIC "-//W3C//DTD HTML 3.2//E
 N"><HTML></HTML>
CREATED;TZID=Europe/Oslo:20190702T160250
URL;VALUE=URI:https://brussels.armymwr.com/calendar/event
DTSTART;TZID=Europe/Oslo:20190515T090000
DTEND;TZID=Europe/Oslo:20190515T123000
SEQUENCE:1
END:VEVENT
BEGIN:VEVENT
UID:sabre-vobject-a1f90483-293f-4f4e-9b56-67a14307858c
DTSTAMP:20260423T020244Z
SUMMARY:Host Nation Orientation 
DESCRIPTION:
X-ALT-DESC:FMTTYPE=text/html:<!DOCTYPE HTML PUBLIC "-//W3C//DTD HTML 3.2//E
 N"><HTML></HTML>
CREATED;TZID=Europe/Oslo:20190702T160250
URL;VALUE=URI:https://brussels.armymwr.com/calendar/event
DTSTART;TZID=Europe/Oslo:20190619T090000
DTEND;TZID=Europe/Oslo:20190619T123000
SEQUENCE:2
END:VEVENT
BEGIN:VEVENT
UID:sabre-vobject-290f3f04-7c85-4952-8d85-99b492c6da30
DTSTAMP:20260423T020244Z
SUMMARY:Host Nation Orientation 
DESCRIPTION:
X-ALT-DESC:FMTTYPE=text/html:<!DOCTYPE HTML PUBLIC "-//W3C//DTD HTML 3.2//E
 N"><HTML></HTML>
CREATED;TZID=Europe/Oslo:20190702T160250
URL;VALUE=URI:https://brussels.armymwr.com/calendar/event
DTSTART;TZID=Europe/Oslo:20190717T083000
DTEND;TZID=Europe/Oslo:20190717T123000
SEQUENCE:3
END:VEVENT
BEGIN:VEVENT
UID:sabre-vobject-3689b4c6-5f3c-43ea-b512-23867d3cdbfc
DTSTAMP:20260423T020244Z
SUMMARY:Host Nation Orientation 
DESCRIPTION:
X-ALT-DESC:FMTTYPE=text/html:<!DOCTYPE HTML PUBLIC "-//W3C//DTD HTML 3.2//E
 N"><HTML></HTML>
CREATED;TZID=Europe/Oslo:20190702T160250
URL;VALUE=URI:https://brussels.armymwr.com/calendar/event
DTSTART;TZID=Europe/Oslo:20190821T090000
DTEND;TZID=Europe/Oslo:20190821T123000
SEQUENCE:4
END:VEVENT
BEGIN:VEVENT
UID:sabre-vobject-6006b197-4b9b-418e-b0e0-9f9884ab263f
DTSTAMP:20260423T020244Z
SUMMARY:Host Nation Orientation 
DESCRIPTION:
X-ALT-DESC:FMTTYPE=text/html:<!DOCTYPE HTML PUBLIC "-//W3C//DTD HTML 3.2//E
 N"><HTML></HTML>
CREATED;TZID=Europe/Oslo:20190702T160250
URL;VALUE=URI:https://brussels.armymwr.com/calendar/event
DTSTART;TZID=Europe/Oslo:20190918T090000
DTEND;TZID=Europe/Oslo:20190918T123000
SEQUENCE:5
END:VEVENT
END:VCALENDAR
