BEGIN:VCALENDAR
VERSION:2.0
PRODID:-//Sabre//Sabre VObject 4.5.8//EN
CALSCALE:GREGORIAN
BEGIN:VEVENT
UID:sabre-vobject-9b53ec52-f653-4615-a7fe-5d2399484e2a
DTSTAMP:20260425T000840Z
SUMMARY:August Fitness Challenge 
DESCRIPTION:Can you complete 20 reps a day of squats\, lunges\, glute bridg
 e\, or pylo box jump and&nbsp\;40\,000 steps during August?\n
X-ALT-DESC:FMTTYPE=text/html:<!DOCTYPE HTML PUBLIC "-//W3C//DTD HTML 3.2//E
 N"><HTML><p>Can you complete 20 reps a day of squats\, lunges\, glute brid
 ge\, or pylo box jump and&nbsp\;40\,000 steps during August?</p>\n</HTML>
CREATED;TZID=Europe/Oslo:20190819T094549
URL;VALUE=URI:https://brussels.armymwr.com/calendar/event
DTSTART;TZID=Europe/Oslo:20190801T000000
DTEND;TZID=Europe/Oslo:20190831T235500
SEQUENCE:0
END:VEVENT
END:VCALENDAR
