BEGIN:VCALENDAR
VERSION:2.0
PRODID:-//Sabre//Sabre VObject 4.5.8//EN
CALSCALE:GREGORIAN
BEGIN:VEVENT
UID:sabre-vobject-4c99fe42-ed0a-4fb9-b237-8aeb1f415ca0
DTSTAMP:20260426T012929Z
SUMMARY:Little Bits Creations
DESCRIPTION:Snap Little Bits together to invent something new!&nbsp\; What 
 will your creation do?\n
X-ALT-DESC:FMTTYPE=text/html:<!DOCTYPE HTML PUBLIC "-//W3C//DTD HTML 3.2//E
 N"><HTML><p>Snap Little Bits together to invent something new!&nbsp\; What
  will your creation do?</p>\n</HTML>
CREATED;TZID=Europe/Oslo:20190614T184403
URL;VALUE=URI:https://brussels.armymwr.com/calendar/event
DTSTART;TZID=Europe/Oslo:20190711T140000
DTEND;TZID=Europe/Oslo:20190711T160000
SEQUENCE:0
END:VEVENT
END:VCALENDAR
