BEGIN:VCALENDAR
VERSION:2.0
PRODID:-//Sabre//Sabre VObject 4.5.8//EN
CALSCALE:GREGORIAN
BEGIN:VEVENT
UID:sabre-vobject-b045bb09-034a-470e-9e34-a4edfc904f60
DTSTAMP:20260423T033300Z
SUMMARY:MakerSpace Meet-Up
DESCRIPTION:Build\, create\, experiment!\n
X-ALT-DESC:FMTTYPE=text/html:<!DOCTYPE HTML PUBLIC "-//W3C//DTD HTML 3.2//E
 N"><HTML><p>Build\, create\, experiment!</p>\n</HTML>
CREATED;TZID=Europe/Oslo:20190815T082030
URL;VALUE=URI:https://brussels.armymwr.com/calendar/event
DTSTART;TZID=Europe/Oslo:20190911T140000
DTEND;TZID=Europe/Oslo:20190911T170000
SEQUENCE:0
END:VEVENT
END:VCALENDAR
