BEGIN:VCALENDAR
VERSION:2.0
PRODID:-//Sabre//Sabre VObject 4.5.8//EN
CALSCALE:GREGORIAN
BEGIN:VEVENT
UID:sabre-vobject-d6cb1baa-0aec-48a6-9e91-5823cca521d4
DTSTAMP:20260423T221716Z
SUMMARY:Little Bits Creations
DESCRIPTION:Snap Little Bits together to invent something new!&nbsp\; What 
 will your creation do?\n
X-ALT-DESC:FMTTYPE=text/html:<!DOCTYPE HTML PUBLIC "-//W3C//DTD HTML 3.2//E
 N"><HTML><p>Snap Little Bits together to invent something new!&nbsp\; What
  will your creation do?</p>\n</HTML>
CREATED;TZID=Europe/Oslo:20190820T174546
URL;VALUE=URI:https://brussels.armymwr.com/calendar/event
DTSTART;TZID=Europe/Oslo:20190822T140000
DTEND;TZID=Europe/Oslo:20190822T160000
SEQUENCE:0
END:VEVENT
END:VCALENDAR
