BEGIN:VCALENDAR
VERSION:2.0
PRODID:-//Sabre//Sabre VObject 4.5.8//EN
CALSCALE:GREGORIAN
BEGIN:VEVENT
UID:sabre-vobject-ed61b8f5-37e5-49a4-b4c3-76a2a485666d
DTSTAMP:20260422T165222Z
SUMMARY:Brussels Book Club
DESCRIPTION:Spend time with fellow readers discussing the book selection of
  the month.\n
X-ALT-DESC:FMTTYPE=text/html:<!DOCTYPE HTML PUBLIC "-//W3C//DTD HTML 3.2//E
 N"><HTML><h5>Spend time with fellow readers discussing the book selection 
 of the month.</h5>\n</HTML>
CREATED;TZID=Europe/Oslo:20190912T163332
URL;VALUE=URI:https://brussels.armymwr.com/calendar/event
DTSTART;TZID=Europe/Oslo:20191002T113000
DTEND;TZID=Europe/Oslo:20191002T130000
SEQUENCE:0
END:VEVENT
END:VCALENDAR
