BEGIN:VCALENDAR
VERSION:2.0
PRODID:-//Sabre//Sabre VObject 4.5.8//EN
CALSCALE:GREGORIAN
BEGIN:VEVENT
UID:sabre-vobject-01a3cadd-8ed5-4bc2-982c-22c01eb0cd8f
DTSTAMP:20260422T162605Z
SUMMARY:Children's Story Time
DESCRIPTION:Come to the USAG Benelux-Brussels Library to enjoy a harvest-th
 emed story time!\n
X-ALT-DESC:FMTTYPE=text/html:<!DOCTYPE HTML PUBLIC "-//W3C//DTD HTML 3.2//E
 N"><HTML><p>Come to the USAG Benelux-Brussels Library to enjoy a harvest-t
 hemed story time!</p>\n</HTML>
CREATED;TZID=Europe/Oslo:20190820T181804
URL;VALUE=URI:https://brussels.armymwr.com/calendar/event
DTSTART;TZID=Europe/Oslo:20191013T140000
DTEND;TZID=Europe/Oslo:20191013T150000
SEQUENCE:0
END:VEVENT
END:VCALENDAR
