BEGIN:VCALENDAR
VERSION:2.0
PRODID:-//Sabre//Sabre VObject 4.5.8//EN
CALSCALE:GREGORIAN
BEGIN:VEVENT
UID:sabre-vobject-8248cbc3-ca3c-445d-802e-6d331d8cd03a
DTSTAMP:20260423T221716Z
SUMMARY:Fall Soccer- Youth Sports
DESCRIPTION:Open to Ages 3-15!\n
X-ALT-DESC:FMTTYPE=text/html:<!DOCTYPE HTML PUBLIC "-//W3C//DTD HTML 3.2//E
 N"><HTML><p>Open to Ages 3-15!</p>\n</HTML>
CREATED;TZID=Europe/Oslo:20190822T150613
URL;VALUE=URI:https://brussels.armymwr.com/calendar/event
DTSTART;TZID=Europe/Oslo:20190901T000000
DTEND;TZID=Europe/Oslo:20191031T235959
SEQUENCE:0
END:VEVENT
END:VCALENDAR
