BEGIN:VCALENDAR
VERSION:2.0
PRODID:-//Sabre//Sabre VObject 4.5.8//EN
CALSCALE:GREGORIAN
BEGIN:VEVENT
UID:sabre-vobject-6ddf2bb4-a51b-477a-9290-5c7bce6079a2
DTSTAMP:20260423T221716Z
SUMMARY:Fall Volleyball Clinic- Youth Sports
DESCRIPTION:Open to grades 6-12.\n
X-ALT-DESC:FMTTYPE=text/html:<!DOCTYPE HTML PUBLIC "-//W3C//DTD HTML 3.2//E
 N"><HTML><p>Open to grades 6-12.</p>\n</HTML>
CREATED;TZID=Europe/Oslo:20190822T151316
URL;VALUE=URI:https://brussels.armymwr.com/calendar/event
DTSTART;TZID=Europe/Oslo:20190901T000000
DTEND;TZID=Europe/Oslo:20191031T235959
SEQUENCE:0
END:VEVENT
END:VCALENDAR
