BEGIN:VCALENDAR
VERSION:2.0
PRODID:-//Sabre//Sabre VObject 4.5.8//EN
CALSCALE:GREGORIAN
BEGIN:VEVENT
UID:sabre-vobject-bba6ffcc-9f76-479e-877a-aa14fae9cb1a
DTSTAMP:20260423T020245Z
SUMMARY:Free Build
DESCRIPTION:Build a LegoTM kit or snap Little BitsTM together to invent som
 ething new!&nbsp\;\n
X-ALT-DESC:FMTTYPE=text/html:<!DOCTYPE HTML PUBLIC "-//W3C//DTD HTML 3.2//E
 N"><HTML><p>Build a Lego<sup>TM</sup> kit or snap Little Bits<sup>TM</sup>
  together to invent something new!&nbsp\;</p>\n</HTML>
CREATED;TZID=Europe/Oslo:20190912T093441
URL;VALUE=URI:https://brussels.armymwr.com/calendar/event
DTSTART;TZID=Europe/Oslo:20190915T110000
DTEND;TZID=Europe/Oslo:20190915T160000
SEQUENCE:0
END:VEVENT
END:VCALENDAR
