BEGIN:VCALENDAR
VERSION:2.0
PRODID:-//Sabre//Sabre VObject 4.5.8//EN
CALSCALE:GREGORIAN
BEGIN:VEVENT
UID:sabre-vobject-00b6ef53-1126-4d5b-9d79-eb4edf249829
DTSTAMP:20260423T062455Z
SUMMARY:CYS Soccer Clinic Registration
DESCRIPTION:Register March 1 - 15 for children ages 3-15 to learn developme
 nt soccer skills.&nbsp\; Clinic runs March 16 through April 8.&nbsp\;\n
X-ALT-DESC:FMTTYPE=text/html:<!DOCTYPE HTML PUBLIC "-//W3C//DTD HTML 3.2//E
 N"><HTML><p>Register March 1 - 15 for children ages 3-15 to learn developm
 ent soccer skills.&nbsp\; Clinic runs March 16 through April 8.&nbsp\;</p>
 \n</HTML>
CREATED;TZID=Europe/Oslo:20210219T145226
URL;VALUE=URI:https://brussels.armymwr.com/calendar/event
DTSTART;TZID=Europe/Oslo:20210301T190000
DTEND;TZID=Europe/Oslo:20210315T200000
SEQUENCE:0
END:VEVENT
END:VCALENDAR
