BEGIN:VCALENDAR
VERSION:2.0
PRODID:-//Sabre//Sabre VObject 4.5.8//EN
CALSCALE:GREGORIAN
BEGIN:VEVENT
UID:sabre-vobject-a3612ee7-3813-4589-8544-dfcc1d61f542
DTSTAMP:20260423T230147Z
SUMMARY:CYS Soccer Clinic Registration
DESCRIPTION:Registration ends February 12.&nbsp\; Clinic begins February 16
 . Ages 6-15 years.&nbsp\;\n
X-ALT-DESC:FMTTYPE=text/html:<!DOCTYPE HTML PUBLIC "-//W3C//DTD HTML 3.2//E
 N"><HTML><p>Registration ends February 12.&nbsp\; Clinic begins February 1
 6. Ages 6-15 years.&nbsp\;</p>\n</HTML>
CREATED;TZID=Europe/Oslo:20210204T193511
URL;VALUE=URI:https://brussels.armymwr.com/calendar/event
DTSTART;TZID=Europe/Oslo:20210204T190000
DTEND;TZID=Europe/Oslo:20210212T200000
SEQUENCE:0
END:VEVENT
END:VCALENDAR
