BEGIN:VCALENDAR
VERSION:2.0
PRODID:-//Sabre//Sabre VObject 4.5.8//EN
CALSCALE:GREGORIAN
BEGIN:VEVENT
UID:sabre-vobject-fa0847c7-fdc8-4edd-b459-ea6a0202a702
DTSTAMP:20260420T161735Z
SUMMARY:Virtual Painting Class- Water Lilies
DESCRIPTION:Sign up by May 19!\n
X-ALT-DESC:FMTTYPE=text/html:<!DOCTYPE HTML PUBLIC "-//W3C//DTD HTML 3.2//E
 N"><HTML><p>Sign up by May 19!</p>\n</HTML>
CREATED;TZID=Europe/Oslo:20210419T133927
URL;VALUE=URI:https://brussels.armymwr.com/calendar/event
DTSTART;TZID=Europe/Oslo:20210521T180000
DTEND;TZID=Europe/Oslo:20210521T213000
SEQUENCE:0
END:VEVENT
END:VCALENDAR
