BEGIN:VCALENDAR
VERSION:2.0
PRODID:-//Sabre//Sabre VObject 4.5.8//EN
CALSCALE:GREGORIAN
BEGIN:VEVENT
UID:sabre-vobject-667cd290-96b9-40ff-8a2f-714871381c2c
DTSTAMP:20260422T042726Z
SUMMARY:Strong BANDS
DESCRIPTION:Get your Strong BANDS wristband!\n
X-ALT-DESC:FMTTYPE=text/html:<!DOCTYPE HTML PUBLIC "-//W3C//DTD HTML 3.2//E
 N"><HTML><p>Get your Strong BANDS wristband!</p>\n</HTML>
CREATED;TZID=Europe/Oslo:20210430T090000
URL;VALUE=URI:https://brussels.armymwr.com/calendar/event
DTSTART;TZID=Europe/Oslo:20210501T190000
DTEND;TZID=Europe/Oslo:20210531T200000
SEQUENCE:0
END:VEVENT
END:VCALENDAR
