BEGIN:VCALENDAR
VERSION:2.0
PRODID:-//Sabre//Sabre VObject 4.5.8//EN
CALSCALE:GREGORIAN
BEGIN:VEVENT
UID:sabre-vobject-40875f01-2cd5-4d74-8038-79879aedcdf2
DTSTAMP:20260424T234847Z
SUMMARY:Read\, Renew\, Repeat: Gazebo Outreach 
DESCRIPTION:Join us outside by the gazebo for CreaTEAvity!\n
X-ALT-DESC:FMTTYPE=text/html:<!DOCTYPE HTML PUBLIC "-//W3C//DTD HTML 3.2//E
 N"><HTML><p>Join us outside by the gazebo for CreaTEAvity!</p>\n</HTML>
CREATED;TZID=Europe/Oslo:20240418T125152
URL;VALUE=URI:https://brussels.armymwr.com/calendar/event
DTSTART;TZID=Europe/Oslo:20240815T120000
DTEND;TZID=Europe/Oslo:20240815T130000
SEQUENCE:0
END:VEVENT
END:VCALENDAR
