BEGIN:VCALENDAR
VERSION:2.0
PRODID:-//Sabre//Sabre VObject 4.5.8//EN
CALSCALE:GREGORIAN
BEGIN:VEVENT
UID:sabre-vobject-bfd0e72a-c6db-4fc0-aa42-61b75b413c3f
DTSTAMP:20260424T065124Z
SUMMARY:Brussels Library Facility Closed - Join Us at the Brussels Communit
 y Welcome Expo
DESCRIPTION:Please note that Brussels Library will be closed on Friday\, Au
 gust 23\, 2024. Please join us at the Brussels Community Welcome Expo from
  3PM to 6PM at the 3 Star Recreation Center.\n
X-ALT-DESC:FMTTYPE=text/html:<!DOCTYPE HTML PUBLIC "-//W3C//DTD HTML 3.2//E
 N"><HTML><p>Please note that Brussels Library will be closed on Friday\, A
 ugust 23\, 2024. Please join us at the Brussels Community Welcome Expo fro
 m 3PM to 6PM at the 3 Star Recreation Center.</p>\n</HTML>
CREATED;TZID=Europe/Oslo:20240730T171804
URL;VALUE=URI:https://brussels.armymwr.com/calendar/event
DTSTART;TZID=Europe/Oslo:20240823T150000
DTEND;TZID=Europe/Oslo:20240823T180000
SEQUENCE:0
END:VEVENT
END:VCALENDAR
